BEGIN:VCALENDAR
VERSION:2.0
PRODID:icalendar-ruby
CALSCALE:GREGORIAN
METHOD:PUBLISH
BEGIN:VEVENT
DTSTAMP:20260425T180850Z
UID:5-558416@bengalchristianchurch.org
DTSTART:20261101T153000Z
DTEND:20261101T163000Z
CLASS:PUBLIC
CREATED:20260425T124650
DESCRIPTION:Sunday Worship
LAST-MODIFIED:20260425T124650
LOCATION:
SUMMARY:Sunday Worship
URL;VALUE=URI:https://bengalchristianchurch.org/events/sunday-worship/2026-
 11-01
END:VEVENT
END:VCALENDAR
